BEGIN:VCALENDAR
VERSION:2.0
PRODID:-//Gunville Methodist Church - ECPv6.15.20//NONSGML v1.0//EN
CALSCALE:GREGORIAN
METHOD:PUBLISH
X-ORIGINAL-URL:https://www.gunville.org.uk
X-WR-CALDESC:Events for Gunville Methodist Church
REFRESH-INTERVAL;VALUE=DURATION:PT1H
X-Robots-Tag:noindex
X-PUBLISHED-TTL:PT1H
BEGIN:VTIMEZONE
TZID:Europe/London
BEGIN:DAYLIGHT
TZOFFSETFROM:+0000
TZOFFSETTO:+0100
TZNAME:BST
DTSTART:20240331T010000
END:DAYLIGHT
BEGIN:STANDARD
TZOFFSETFROM:+0100
TZOFFSETTO:+0000
TZNAME:GMT
DTSTART:20241027T010000
END:STANDARD
BEGIN:DAYLIGHT
TZOFFSETFROM:+0000
TZOFFSETTO:+0100
TZNAME:BST
DTSTART:20250330T010000
END:DAYLIGHT
BEGIN:STANDARD
TZOFFSETFROM:+0100
TZOFFSETTO:+0000
TZNAME:GMT
DTSTART:20251026T010000
END:STANDARD
BEGIN:DAYLIGHT
TZOFFSETFROM:+0000
TZOFFSETTO:+0100
TZNAME:BST
DTSTART:20260329T010000
END:DAYLIGHT
BEGIN:STANDARD
TZOFFSETFROM:+0100
TZOFFSETTO:+0000
TZNAME:GMT
DTSTART:20261025T010000
END:STANDARD
END:VTIMEZONE
BEGIN:VEVENT
DTSTART;TZID=Europe/London:20251005T103000
DTEND;TZID=Europe/London:20251005T114500
DTSTAMP:20260425T222446
CREATED:20250906T070859Z
LAST-MODIFIED:20250906T070859Z
UID:9648-1759660200-1759664700@www.gunville.org.uk
SUMMARY:Morning Worship
DESCRIPTION:More Information
URL:https://www.gunville.org.uk/event/morning-worship-282/
LOCATION:Gunville Church\, Gunville Road\, Newport\, Isle of Wight\, PO30 5LS\, United Kingdom
CATEGORIES:Church Events
END:VEVENT
BEGIN:VEVENT
DTSTART;TZID=Europe/London:20251007T100000
DTEND;TZID=Europe/London:20251007T113000
DTSTAMP:20260425T222446
CREATED:20250906T070900Z
LAST-MODIFIED:20250906T070900Z
UID:9649-1759831200-1759836600@www.gunville.org.uk
SUMMARY:The Ark Parent & Toddlers
DESCRIPTION:More Information
URL:https://www.gunville.org.uk/event/the-ark-parent-toddlers-211/
LOCATION:Gunville Church\, Gunville Road\, Newport\, Isle of Wight\, PO30 5LS\, United Kingdom
CATEGORIES:Church Events
END:VEVENT
BEGIN:VEVENT
DTSTART;TZID=Europe/London:20251012T103000
DTEND;TZID=Europe/London:20251012T114500
DTSTAMP:20260425T222446
CREATED:20250906T070900Z
LAST-MODIFIED:20250906T070900Z
UID:9650-1760265000-1760269500@www.gunville.org.uk
SUMMARY:Morning Worship
DESCRIPTION:More Information
URL:https://www.gunville.org.uk/event/morning-worship-283/
LOCATION:Gunville Church\, Gunville Road\, Newport\, Isle of Wight\, PO30 5LS\, United Kingdom
CATEGORIES:Church Events
END:VEVENT
BEGIN:VEVENT
DTSTART;TZID=Europe/London:20251014T100000
DTEND;TZID=Europe/London:20251014T113000
DTSTAMP:20260425T222446
CREATED:20250906T070914Z
LAST-MODIFIED:20250906T070914Z
UID:9651-1760436000-1760441400@www.gunville.org.uk
SUMMARY:The Ark Parent & Toddlers
DESCRIPTION:More Information
URL:https://www.gunville.org.uk/event/the-ark-parent-toddlers-212/
LOCATION:Gunville Church\, Gunville Road\, Newport\, Isle of Wight\, PO30 5LS\, United Kingdom
CATEGORIES:Church Events
END:VEVENT
BEGIN:VEVENT
DTSTART;TZID=Europe/London:20251019T103000
DTEND;TZID=Europe/London:20251019T114500
DTSTAMP:20260425T222446
CREATED:20250906T070914Z
LAST-MODIFIED:20250906T070914Z
UID:9652-1760869800-1760874300@www.gunville.org.uk
SUMMARY:Morning Worship
DESCRIPTION:More Information
URL:https://www.gunville.org.uk/event/morning-worship-284/
LOCATION:Gunville Church\, Gunville Road\, Newport\, Isle of Wight\, PO30 5LS\, United Kingdom
CATEGORIES:Church Events
END:VEVENT
BEGIN:VEVENT
DTSTART;TZID=Europe/London:20251026T103000
DTEND;TZID=Europe/London:20251026T114500
DTSTAMP:20260425T222446
CREATED:20250906T070915Z
LAST-MODIFIED:20250906T070915Z
UID:9653-1761474600-1761479100@www.gunville.org.uk
SUMMARY:Morning Worship
DESCRIPTION:More Information
URL:https://www.gunville.org.uk/event/morning-worship-285/
LOCATION:Gunville Church\, Gunville Road\, Newport\, Isle of Wight\, PO30 5LS\, United Kingdom
CATEGORIES:Church Events
END:VEVENT
END:VCALENDAR