BEGIN:VCALENDAR
VERSION:2.0
PRODID:-//Gunville Methodist Church - ECPv6.15.20//NONSGML v1.0//EN
CALSCALE:GREGORIAN
METHOD:PUBLISH
X-ORIGINAL-URL:https://www.gunville.org.uk
X-WR-CALDESC:Events for Gunville Methodist Church
REFRESH-INTERVAL;VALUE=DURATION:PT1H
X-Robots-Tag:noindex
X-PUBLISHED-TTL:PT1H
BEGIN:VTIMEZONE
TZID:Europe/London
BEGIN:DAYLIGHT
TZOFFSETFROM:+0000
TZOFFSETTO:+0100
TZNAME:BST
DTSTART:20240331T010000
END:DAYLIGHT
BEGIN:STANDARD
TZOFFSETFROM:+0100
TZOFFSETTO:+0000
TZNAME:GMT
DTSTART:20241027T010000
END:STANDARD
BEGIN:DAYLIGHT
TZOFFSETFROM:+0000
TZOFFSETTO:+0100
TZNAME:BST
DTSTART:20250330T010000
END:DAYLIGHT
BEGIN:STANDARD
TZOFFSETFROM:+0100
TZOFFSETTO:+0000
TZNAME:GMT
DTSTART:20251026T010000
END:STANDARD
BEGIN:DAYLIGHT
TZOFFSETFROM:+0000
TZOFFSETTO:+0100
TZNAME:BST
DTSTART:20260329T010000
END:DAYLIGHT
BEGIN:STANDARD
TZOFFSETFROM:+0100
TZOFFSETTO:+0000
TZNAME:GMT
DTSTART:20261025T010000
END:STANDARD
END:VTIMEZONE
BEGIN:VEVENT
DTSTART;TZID=Europe/London:20250701T100000
DTEND;TZID=Europe/London:20250701T113000
DTSTAMP:20260426T033258
CREATED:20250606T120521Z
LAST-MODIFIED:20250606T120521Z
UID:9549-1751364000-1751369400@www.gunville.org.uk
SUMMARY:The Ark Parent & Toddlers
DESCRIPTION:More Information
URL:https://www.gunville.org.uk/event/the-ark-parent-toddlers-204/
LOCATION:Gunville Church\, Gunville Road\, Newport\, Isle of Wight\, PO30 5LS\, United Kingdom
CATEGORIES:Church Events
END:VEVENT
BEGIN:VEVENT
DTSTART;TZID=Europe/London:20250706T103000
DTEND;TZID=Europe/London:20250706T114500
DTSTAMP:20260426T033258
CREATED:20250606T120521Z
LAST-MODIFIED:20250606T120521Z
UID:9550-1751797800-1751802300@www.gunville.org.uk
SUMMARY:Morning Worship
DESCRIPTION:More Information
URL:https://www.gunville.org.uk/event/morning-worship-274/
LOCATION:Gunville Church\, Gunville Road\, Newport\, Isle of Wight\, PO30 5LS\, United Kingdom
CATEGORIES:Church Events
END:VEVENT
BEGIN:VEVENT
DTSTART;TZID=Europe/London:20250708T100000
DTEND;TZID=Europe/London:20250708T113000
DTSTAMP:20260426T033258
CREATED:20250606T120537Z
LAST-MODIFIED:20250606T120537Z
UID:9551-1751968800-1751974200@www.gunville.org.uk
SUMMARY:The Ark Parent & Toddlers
DESCRIPTION:More Information
URL:https://www.gunville.org.uk/event/the-ark-parent-toddlers-205/
LOCATION:Gunville Church\, Gunville Road\, Newport\, Isle of Wight\, PO30 5LS\, United Kingdom
CATEGORIES:Church Events
END:VEVENT
BEGIN:VEVENT
DTSTART;TZID=Europe/London:20250713T103000
DTEND;TZID=Europe/London:20250713T114500
DTSTAMP:20260426T033258
CREATED:20250606T120537Z
LAST-MODIFIED:20250606T120537Z
UID:9552-1752402600-1752407100@www.gunville.org.uk
SUMMARY:Morning Worship
DESCRIPTION:More Information
URL:https://www.gunville.org.uk/event/morning-worship-275/
LOCATION:Gunville Church\, Gunville Road\, Newport\, Isle of Wight\, PO30 5LS\, United Kingdom
CATEGORIES:Church Events
END:VEVENT
BEGIN:VEVENT
DTSTART;TZID=Europe/London:20250715T100000
DTEND;TZID=Europe/London:20250715T113000
DTSTAMP:20260426T033258
CREATED:20250606T120537Z
LAST-MODIFIED:20250606T120537Z
UID:9553-1752573600-1752579000@www.gunville.org.uk
SUMMARY:The Ark Parent & Toddlers
DESCRIPTION:More Information
URL:https://www.gunville.org.uk/event/the-ark-parent-toddlers-206/
LOCATION:Gunville Church\, Gunville Road\, Newport\, Isle of Wight\, PO30 5LS\, United Kingdom
CATEGORIES:Church Events
END:VEVENT
BEGIN:VEVENT
DTSTART;TZID=Europe/London:20250720T103000
DTEND;TZID=Europe/London:20250720T114500
DTSTAMP:20260426T033258
CREATED:20250606T120538Z
LAST-MODIFIED:20250606T120538Z
UID:9554-1753007400-1753011900@www.gunville.org.uk
SUMMARY:Morning Worship
DESCRIPTION:More Information
URL:https://www.gunville.org.uk/event/morning-worship-276/
LOCATION:Gunville Church\, Gunville Road\, Newport\, Isle of Wight\, PO30 5LS\, United Kingdom
CATEGORIES:Church Events
END:VEVENT
BEGIN:VEVENT
DTSTART;TZID=Europe/London:20250722T100000
DTEND;TZID=Europe/London:20250722T113000
DTSTAMP:20260426T033258
CREATED:20250720T194607Z
LAST-MODIFIED:20250720T194857Z
UID:9599-1753178400-1753183800@www.gunville.org.uk
SUMMARY:The Ark Parent & Toddlers
DESCRIPTION:More Information \nThis week it’s time to say goodbye to all those who will be going to school in September. We’re really pleased to have Pastor Dan Wells coming to help in the celebrations!
URL:https://www.gunville.org.uk/event/the-ark-parent-toddlers-207/
LOCATION:Gunville Church\, Gunville Road\, Newport\, Isle of Wight\, PO30 5LS\, United Kingdom
CATEGORIES:Church Events
END:VEVENT
BEGIN:VEVENT
DTSTART;TZID=Europe/London:20250727T103000
DTEND;TZID=Europe/London:20250727T114500
DTSTAMP:20260426T033258
CREATED:20250606T120538Z
LAST-MODIFIED:20250606T120538Z
UID:9555-1753612200-1753616700@www.gunville.org.uk
SUMMARY:Morning Worship
DESCRIPTION:More Information
URL:https://www.gunville.org.uk/event/morning-worship-277/
LOCATION:Gunville Church\, Gunville Road\, Newport\, Isle of Wight\, PO30 5LS\, United Kingdom
CATEGORIES:Church Events
END:VEVENT
BEGIN:VEVENT
DTSTART;TZID=Europe/London:20250729T100000
DTEND;TZID=Europe/London:20250729T120000
DTSTAMP:20260426T033258
CREATED:20250720T134702Z
LAST-MODIFIED:20250720T134702Z
UID:9595-1753783200-1753790400@www.gunville.org.uk
SUMMARY:The Ark 30th birthday
DESCRIPTION:On July 29th we’re celebrating The Ark’s 30th birthday! \nIf you’ve ever been – as a toddler\, parent\, carer\, or helper we’d love to see you! \nThere will be a bouncy castle (for  small people!)\, toys and crafts to join in with as well as tea/coffee/squash and cakes to consume! \nLook forward to seeing you there! \n 
URL:https://www.gunville.org.uk/event/the-ark-30th-birthday/
LOCATION:Gunville Church\, Gunville Road\, Newport\, Isle of Wight\, PO30 5LS\, United Kingdom
CATEGORIES:Church Events
ATTACH;FMTTYPE=image/png:https://www.gunville.org.uk/testwp/wp-content/uploads/2025/07/30th-Birthday-Partysmall-e1753041828659.png
END:VEVENT
END:VCALENDAR